BEGIN:VCALENDAR
VERSION:2.0
PRODID:-//Squarespace Inc/Squarespace 6//v6//EN
BEGIN:VEVENT
UID:5ef9144b75467b19ace98f17@squarespace.com
DTSTAMP:20200702T024335Z
DTSTART:20200716T213000Z
DTEND:20200716T233000Z
SUMMARY:Report Launch:Understanding Social Work Provision to Former Refugee 
 and Marginalised Migrant Communities in Auckland
GEO:-36.909175;174.756714
LOCATION:Fickling Convention Centre - Hillsborough Room\, 546 Mount Albert 
 Road\, Auckland\, Auckland\, 1042\, New Zealand
END:VEVENT
END:VCALENDAR
