BEGIN:VCALENDAR
VERSION:2.0
PRODID:-//Squarespace Inc/Squarespace 6//v6//EN
BEGIN:VEVENT
UID:5df96f07cda8467a3e7187d5@squarespace.com
DTSTAMP:20200807T013226Z
DTSTART:20200215T140000Z
DTEND:20200215T210000Z
SUMMARY:Treaty of Waitangi Workshop
GEO:-36.901045;174.731189
LOCATION:Wesley Community Centre\, 740 Sandringham Road Ext.\, Mount Roskil
 l\, Auckland\, New Zealand
END:VEVENT
END:VCALENDAR
