BEGIN:VCALENDAR
VERSION:2.0
PRODID:-//Squarespace Inc/Squarespace 6//v6//EN
BEGIN:VEVENT
UID:5f2caf2aa832fa50ceb33d1b@squarespace.com
DTSTAMP:20201021T003907Z
DTSTART:20201106T200000Z
DTEND:20201107T040000Z
SUMMARY:Treaty of Waitangi Workshop
GEO:-36.948355;174.789521
LOCATION:Mangere Mountain Education Centre\, 100 Coronation Road\, Mangere\
 , Auckland\, 2022\, New Zealand
END:VEVENT
END:VCALENDAR
