BEGIN:VCALENDAR
VERSION:2.0
PRODID:-//Squarespace Inc/Squarespace 6//v6//EN
BEGIN:VEVENT
UID:5fd91fc77ce6667831923f7a@squarespace.com
DTSTAMP:20201215T204632Z
DTSTART:20210226T200000Z
DTEND:20210227T023000Z
SUMMARY:Treaty of Waitangi Workshop
GEO:-36.901045;174.731189
LOCATION:Wesley Community Centre\, 740 Sandringham Road Ext.\, Mount Roskil
 l\, Auckland\, New Zealand
END:VEVENT
END:VCALENDAR
