BEGIN:VCALENDAR
VERSION:2.0
PRODID:-//Squarespace Inc/Squarespace 6//v6//EN
BEGIN:VEVENT
UID:5d66009000e94f0001458a58@squarespace.com
DTSTAMP:20191029T232751Z
DTSTART:20190912T133000Z
DTEND:20190912T173000Z
SUMMARY:Taxation and Financial Planning in NZ Information Session
GEO:-36.901045;174.731189
LOCATION:Wesley Community Centre\, 740 Sandringham Road Ext.\, Mount Roskil
 l\, Auckland\, New Zealand
END:VEVENT
END:VCALENDAR
