BEGIN:VCALENDAR
VERSION:2.0
PRODID:-//Squarespace Inc/Squarespace 6//v6//EN
BEGIN:VEVENT
UID:5db8caf7204aa560d50d86c4@squarespace.com
DTSTAMP:20191029T233047Z
DTSTART:20191114T153000Z
DTEND:20191114T180000Z
SUMMARY:Taxation and Financial Planning in NZ Information Session
GEO:-36.898753;174.854567
LOCATION:Panmure Community Centre\, 7-13 Pilkington Road\, Panmure\, Auckla
 nd 1072
END:VEVENT
END:VCALENDAR
