BEGIN:VCALENDAR
VERSION:2.0
PRODID:-//Squarespace Inc/Squarespace 6//v6//EN
BEGIN:VEVENT
UID:5e5ebaff7d40f1471075a74c@squarespace.com
DTSTAMP:20200318T232743Z
DTSTART:20200324T143000Z
DTEND:20200324T173000Z
SUMMARY:CANCELLED Taxation and Business Start Up Workshop 
GEO:-36.901045;174.731189
LOCATION:Wesley Community Centre\, 740 Sandringham Road Ext.\, Mount Roskil
 l\, Auckland\, New Zealand
END:VEVENT
END:VCALENDAR
