BEGIN:VCALENDAR
VERSION:2.0
PRODID:-//Squarespace Inc/Squarespace 6//v6//EN
BEGIN:VEVENT
UID:5d65e10c6044f700018cf15f@squarespace.com
DTSTAMP:20190828T045127Z
DTSTART:20190906T131500Z
DTEND:20190906T163000Z
SUMMARY:Shaping our Futures Together Hui
GEO:-36.970717;174.80374
LOCATION:Te Wānanga o Aotearoa\, 15 Canning Crescent\, Auckland\, Auckland\
 , 2022\, New Zealand
END:VEVENT
END:VCALENDAR
