BEGIN:VCALENDAR
VERSION:2.0
PRODID:-//Squarespace Inc/Squarespace 6//v6//EN
BEGIN:VEVENT
UID:5e2f84efe77bb337ec157364@squarespace.com
DTSTAMP:20200212T234426Z
DTSTART:20200217T230000Z
DTEND:20200218T010000Z
SUMMARY:Promoting Social Cohesion between Refugees and Host Communities
GEO:-36.867071;174.775901
LOCATION:Pearl of Islands Foundation\, Unit B\, Level 1\, 404-412 Khyber Pa
 ss Road\, Newmarket\, Auckland 1023
END:VEVENT
END:VCALENDAR
