BEGIN:VCALENDAR
VERSION:2.0
PRODID:-//Squarespace Inc/Squarespace 6//v6//EN
BEGIN:VEVENT
UID:5f3dcafcc42c657b86d0e9e4@squarespace.com
DTSTAMP:20200820T060425Z
DTSTART:20200826T220000Z
DTEND:20200826T230000Z
SUMMARY:#PassTheMic Media Campaign Launch
GEO:-36.866459;174.755832
LOCATION:Zoom - Link to be sent after registration
END:VEVENT
END:VCALENDAR
