BEGIN:VCALENDAR
VERSION:2.0
PRODID:-//Squarespace Inc/Squarespace 6//v6//EN
BEGIN:VEVENT
UID:5f39a3d0e734c879bcc49f81@squarespace.com
DTSTAMP:20201006T034538Z
DTSTART:20201012T203000Z
DTEND:20201027T033000Z
SUMMARY:#PassTheMic: Creating Belonging through facilitating cross-cultural 
 understanding
GEO:39.567087;-104.940437
LOCATION:TBC
END:VEVENT
END:VCALENDAR
