BEGIN:VCALENDAR
VERSION:2.0
PRODID:-//Squarespace Inc/Squarespace 6//v6//EN
BEGIN:VEVENT
UID:5e61886ac9e4a322ed170462@squarespace.com
DTSTAMP:20200726T101609Z
DTSTART:20200730T020000Z
DTEND:20200730T033000Z
SUMMARY:Media Hui - Amplifying our Voices 
GEO:-36.84846;174.763331
LOCATION:Online - Zoom details to be shared
END:VEVENT
END:VCALENDAR
