BEGIN:VCALENDAR
VERSION:2.0
PRODID:-//Squarespace Inc/Squarespace 6//v6//EN
BEGIN:VEVENT
UID:5cca67f61873b90001753deb@squarespace.com
DTSTAMP:20191029T233721Z
DTSTART:20191024T130000Z
DTEND:20191024T200000Z
SUMMARY:Job Search Workshop
GEO:-36.901045;174.731189
LOCATION:Wesley Community Centre\, 740 Sandringham Road Extension\, Aucklan
 d\, Auckland\, 1041\, New Zealand
END:VEVENT
END:VCALENDAR
