BEGIN:VCALENDAR
VERSION:2.0
PRODID:-//Squarespace Inc/Squarespace 6//v6//EN
BEGIN:VEVENT
UID:5db8cd31ec53750aa846908b@squarespace.com
DTSTAMP:20191122T005059Z
DTSTART:20191126T140000Z
DTEND:20191126T210000Z
SUMMARY:Job Search Workshop
GEO:-36.901045;174.731189
LOCATION:Wesley Community Centre\, 740 Sandringham Road Extension\, Aucklan
 d\, Auckland\, 1041\, New Zealand
END:VEVENT
END:VCALENDAR
