BEGIN:VCALENDAR
VERSION:2.0
PRODID:-//Squarespace Inc/Squarespace 6//v6//EN
BEGIN:VEVENT
UID:5dfbf46c7abced65d8aa9a99@squarespace.com
DTSTAMP:20200212T234443Z
DTSTART:20200219T140000Z
DTEND:20200219T210000Z
SUMMARY:Job Search Workshop
GEO:-36.901045;174.731189
LOCATION:Wesley Community Centre\, 740 Sandringham Road Extension\, Aucklan
 d\, Auckland\, 1041\, New Zealand
END:VEVENT
END:VCALENDAR
