BEGIN:VCALENDAR
VERSION:2.0
PRODID:-//Squarespace Inc/Squarespace 6//v6//EN
BEGIN:VEVENT
UID:5e5ebbb1dae30739afa6df16@squarespace.com
DTSTAMP:20200318T232816Z
DTSTART:20200325T130000Z
DTEND:20200325T200000Z
SUMMARY:CANCELLED Job Search Workshop
GEO:-36.901045;174.731189
LOCATION:Wesley Community Centre\, 740 Sandringham Road Extension\, Aucklan
 d\, Auckland\, 1041\, New Zealand
END:VEVENT
END:VCALENDAR
