BEGIN:VCALENDAR
VERSION:2.0
PRODID:-//Squarespace Inc/Squarespace 6//v6//EN
BEGIN:VEVENT
UID:5cd9f61041920210a962cf6f@squarespace.com
DTSTAMP:20190917T035832Z
DTSTART:20190920T130000Z
DTEND:20190920T200000Z
SUMMARY:Job Search Workshop
GEO:-36.901045;174.731189
LOCATION:Wesley Community Centre\, 740 Sandringham Road Extension\, Aucklan
 d\, Auckland\, 1041\, New Zealand
END:VEVENT
END:VCALENDAR
