BEGIN:VCALENDAR
VERSION:2.0
PRODID:-//Squarespace Inc/Squarespace 6//v6//EN
BEGIN:VEVENT
UID:5cd9f695aff0110001520b51@squarespace.com
DTSTAMP:20190828T210031Z
DTSTART:20190925T220000Z
DTEND:20190926T003000Z
SUMMARY:Intercultural Dinner Otara
GEO:-36.92314;174.784315
LOCATION:Henderson Room\, 83 Church Street\, Auckland\, Auckland\, 1061\, N
 ew Zealand
END:VEVENT
END:VCALENDAR
