BEGIN:VCALENDAR
VERSION:2.0
PRODID:-//Squarespace Inc/Squarespace 6//v6//EN
BEGIN:VEVENT
UID:5d65e4f766057a00011d629b@squarespace.com
DTSTAMP:20190828T210204Z
DTSTART:20190918T220000Z
DTEND:20190919T003000Z
SUMMARY:Intercultural Dinner Glen Eden
GEO:-36.84846;174.763332
LOCATION:Otara\, Auckland
END:VEVENT
END:VCALENDAR
