BEGIN:VCALENDAR
VERSION:2.0
PRODID:-//Squarespace Inc/Squarespace 6//v6//EN
BEGIN:VEVENT
UID:5cd9f591ee6eb044fba4f04f@squarespace.com
DTSTAMP:20190829T032043Z
DTSTART:20191010T220000Z
DTEND:20191011T003000Z
SUMMARY:Intercultural Dinner Tamaki
GEO:-36.903889;174.653144
LOCATION:Tamaki\, Auckland\, Auckland\, 0602\, New Zealand
END:VEVENT
END:VCALENDAR
