BEGIN:VCALENDAR
VERSION:2.0
PRODID:-//Squarespace Inc/Squarespace 6//v6//EN
BEGIN:VEVENT
UID:5f70f5ad9497f96ef9175553@squarespace.com
DTSTAMP:20200927T205020Z
DTSTART:20200928T210000Z
DTEND:20201002T063000Z
SUMMARY:In-language Election Information Sessions
GEO:36.41675;-94.222944
LOCATION:ONLINE
END:VEVENT
END:VCALENDAR
