BEGIN:VCALENDAR
VERSION:2.0
PRODID:-//Squarespace Inc/Squarespace 6//v6//EN
BEGIN:VEVENT
UID:5f56d566746c776c65c4fcc4@squarespace.com
DTSTAMP:20200910T215127Z
DTSTART:20200914T220000Z
DTEND:20200914T230000Z
SUMMARY:Hui a Kaupapa Shaping our futures together  Kia Hono
GEO:37.332854;-121.894908
LOCATION:ZOOM
END:VEVENT
END:VCALENDAR
