BEGIN:VCALENDAR
VERSION:2.0
PRODID:-//Squarespace Inc/Squarespace 6//v6//EN
BEGIN:VEVENT
UID:5d65f57a6044f700018ea13f@squarespace.com
DTSTAMP:20190924T021752Z
DTSTART:20190905T133000Z
DTEND:20190905T173000Z
SUMMARY:Home Ownership and Housing Info Session
GEO:-36.901045;174.731189
LOCATION:Wesley Community Centre\, 740 Sandringham Road Ext.\, Mount Roskil
 l\, Auckland\, New Zealand
END:VEVENT
END:VCALENDAR
