BEGIN:VCALENDAR
VERSION:2.0
PRODID:-//Squarespace Inc/Squarespace 6//v6//EN
BEGIN:VEVENT
UID:5d897cd05e600a194cb0da24@squarespace.com
DTSTAMP:20190924T022131Z
DTSTART:20191014T133000Z
DTEND:20191014T173000Z
SUMMARY:Home Ownership and Housing Info Session
GEO:-36.835827;174.602738
LOCATION:Massey Community Hub\, 385 Don Buck Road\, Auckland\, Auckland\, 0
 614\, New Zealand
END:VEVENT
END:VCALENDAR
