BEGIN:VCALENDAR
VERSION:2.0
PRODID:-//Squarespace Inc/Squarespace 6//v6//EN
BEGIN:VEVENT
UID:5db8ce34888fb410bd25c806@squarespace.com
DTSTAMP:20191122T005109Z
DTSTART:20191128T143000Z
DTEND:20191128T183000Z
SUMMARY:Home Ownership and Housing Info Session
GEO:-36.823172;174.622519
LOCATION:Manutewhau Community House (West Harbour Community Hub)\, 74 Oreil 
 Avenue\, Auckland\, Auckland\, 0618\, New Zealand
END:VEVENT
END:VCALENDAR
