BEGIN:VCALENDAR
VERSION:2.0
PRODID:-//Squarespace Inc/Squarespace 6//v6//EN
BEGIN:VEVENT
UID:5db24803a03fe222f4b1e0ef@squarespace.com
DTSTAMP:20200130T030029Z
DTSTART:20191130T150000Z
DTEND:20191130T200000Z
SUMMARY:Governance and Leadership Training
GEO:-36.901045;174.731189
LOCATION:Wesley Community Centre\, Tarapunga Room\, 740 Sandringham Road Ex
 t.\, Mount Roskill\, Auckland\, New Zealand
END:VEVENT
END:VCALENDAR
