BEGIN:VCALENDAR
VERSION:2.0
PRODID:-//Squarespace Inc/Squarespace 6//v6//EN
BEGIN:VEVENT
UID:5e3246cdcd95a406db08f6e1@squarespace.com
DTSTAMP:20200323T213055Z
DTSTART:20200418T140000Z
DTEND:20200418T163000Z
SUMMARY:UPDATE Governance and Leadership Training 
GEO:-36.867244;174.755564
LOCATION:Zoom Link to be sent through
END:VEVENT
END:VCALENDAR
