BEGIN:VCALENDAR
VERSION:2.0
PRODID:-//Squarespace Inc/Squarespace 6//v6//EN
BEGIN:VEVENT
UID:5f8e624843a8423e3c5c4734@squarespace.com
DTSTAMP:20201103T214608Z
DTSTART:20201115T210000Z
DTEND:20201122T230000Z
SUMMARY:Governance and Leadership Training - Networking\, Relationships and 
 Adapting
GEO:-36.9091;174.75615
LOCATION:Fickling Convention Centre\, 546 Mount Albert Road\, Auckland\, Au
 ckland\, 1042\, New Zealand
END:VEVENT
END:VCALENDAR
