BEGIN:VCALENDAR
VERSION:2.0
PRODID:-//Squarespace Inc/Squarespace 6//v6//EN
BEGIN:VEVENT
UID:5ef3e02bec071a338d9b8d5e@squarespace.com
DTSTAMP:20201020T040632Z
DTSTART:20200710T210000Z
DTEND:20200724T220000Z
SUMMARY:Governance and Leadership Training - July 
GEO:-36.867244;174.755564
LOCATION:Zoom Link to be sent through
END:VEVENT
END:VCALENDAR
