BEGIN:VCALENDAR
VERSION:2.0
PRODID:-//Squarespace Inc/Squarespace 6//v6//EN
BEGIN:VEVENT
UID:5f5ae5854492db7ffad789bd@squarespace.com
DTSTAMP:20200914T045715Z
DTSTART:20200915T070000Z
DTEND:20200915T080000Z
SUMMARY:Elections Information Session
GEO:-36.866459;174.755832
LOCATION:Zoom
END:VEVENT
END:VCALENDAR
