BEGIN:VCALENDAR
VERSION:2.0
PRODID:-//Squarespace Inc/Squarespace 6//v6//EN
BEGIN:VEVENT
UID:5ec59e3716484a3cf81d0f53@squarespace.com
DTSTAMP:20200903T224727Z
DTSTART:20200526T223000Z
DTEND:20200527T001500Z
SUMMARY:COVID-19 &amp\; Employment: Getting the employment relationship bac
 k on track
GEO:-36.866459;174.755832
LOCATION:WEBINAR - ONLINE
END:VEVENT
END:VCALENDAR
