BEGIN:VCALENDAR
VERSION:2.0
PRODID:-//Squarespace Inc/Squarespace 6//v6//EN
BEGIN:VEVENT
UID:5ebc8c68d0773c72f39ba62c@squarespace.com
DTSTAMP:20200520T211639Z
DTSTART:20200519T223000Z
DTEND:20200520T000000Z
SUMMARY:COVID-19 &amp\; Employment: Interview skills and tips to help you g
 et the job
GEO:-36.866459;174.755832
LOCATION:WEBINAR - ONLINE
END:VEVENT
END:VCALENDAR
