BEGIN:VCALENDAR
VERSION:2.0
PRODID:-//Squarespace Inc/Squarespace 6//v6//EN
BEGIN:VEVENT
UID:5eb232e64b667a707fb61e9e@squarespace.com
DTSTAMP:20200514T001016Z
DTSTART:20200512T223000Z
DTEND:20200513T000000Z
SUMMARY:COVID-19 &amp\; Employment: Creating a winning CV in the changing N
 Z job market
GEO:-36.866459;174.755832
LOCATION:WEBINAR - ONLINE
END:VEVENT
END:VCALENDAR
