BEGIN:VCALENDAR
VERSION:2.0
PRODID:-//Squarespace Inc/Squarespace 6//v6//EN
BEGIN:VEVENT
UID:5ea9f93066f6be24c298a838@squarespace.com
DTSTAMP:20200506T034542Z
DTSTART:20200505T223000Z
DTEND:20200506T000000Z
SUMMARY:COVID-19 &amp\; Employment: Navigating immigration &amp\; your righ
 ts during COVID
GEO:-36.866459;174.755832
LOCATION:WEBINAR - ONLINE
END:VEVENT
END:VCALENDAR
