BEGIN:VCALENDAR
VERSION:2.0
PRODID:-//Squarespace Inc/Squarespace 6//v6//EN
BEGIN:VEVENT
UID:5e9fb0f87dedb86cbb02603a@squarespace.com
DTSTAMP:20200429T220120Z
DTSTART:20200428T223000Z
DTEND:20200429T000000Z
SUMMARY:COVID-19 &amp\; Employment: The changing job market &amp\; getting 
 yourself ready
GEO:-36.866459;174.755832
LOCATION:WEBINAR - ONLINE
END:VEVENT
END:VCALENDAR
