BEGIN:VCALENDAR
VERSION:2.0
PRODID:-//Squarespace Inc/Squarespace 6//v6//EN
BEGIN:VEVENT
UID:5e98f8bf53d36f155f80d9d4@squarespace.com
DTSTAMP:20200422T045340Z
DTSTART:20200421T223000Z
DTEND:20200422T000000Z
SUMMARY:COVID-19 &amp\; Employment: Immigration\, your rights &amp\; entitl
 ements
GEO:-36.866459;174.755832
LOCATION:WEBINAR - ONLINE
END:VEVENT
END:VCALENDAR
