BEGIN:VCALENDAR
VERSION:2.0
PRODID:-//Squarespace Inc/Squarespace 6//v6//EN
BEGIN:VEVENT
UID:5d96bd536e72770aaab8a0ee@squarespace.com
DTSTAMP:20191004T034425Z
DTSTART:20191016T220000Z
DTEND:20191017T003000Z
SUMMARY:Consultation: Minimising waste and creating thriving communities 
GEO:-36.901045;174.731189
LOCATION:Wesley Community Centre\, 740 Sandringham Road Ext.\, Mount Roskil
 l\, Auckland\, New Zealand
END:VEVENT
END:VCALENDAR
