BEGIN:VCALENDAR
VERSION:2.0
PRODID:-//Squarespace Inc/Squarespace 6//v6//EN
BEGIN:VEVENT
UID:5d76ea0735908f70af441e87@squarespace.com
DTSTAMP:20190929T224841Z
DTSTART:20190919T140000Z
DTEND:20190919T190000Z
SUMMARY:Catering Business Start Up Course
GEO:-36.898753;174.854567
LOCATION:Panmure Community Centre\, 7-13 Pilkington Road\, Auckland\, Auckl
 and\, 1072\, New Zealand
END:VEVENT
END:VCALENDAR
