BEGIN:VCALENDAR
VERSION:2.0
PRODID:-//Squarespace Inc/Squarespace 6//v6//EN
BEGIN:VEVENT
UID:5dacc9ef611aac6dfa929110@squarespace.com
DTSTAMP:20191117T231732Z
DTSTART:20191121T210000Z
DTEND:20191122T001500Z
SUMMARY:Annual Public Meeting and Media Hui
GEO:-36.851461;174.765283
LOCATION:Central City Library\, 44/46 Lorne Street\, Auckland\, Auckland\, 
 1010\, New Zealand
END:VEVENT
END:VCALENDAR
