BEGIN:VCALENDAR
VERSION:2.0
PRODID:-//Squarespace Inc/Squarespace 6//v6//EN
BEGIN:VEVENT
UID:5fa9dd0bb47b7035e15ba300@squarespace.com
DTSTAMP:20201124T202545Z
DTSTART:20201126T053000Z
DTEND:20201126T070000Z
SUMMARY:An Evening to Belong
GEO:-36.867429;174.754731
LOCATION:Lot 23\, 23 Minnie Street\, Eden Terrace\, Auckland\, 1021\, New Z
 ealand
END:VEVENT
END:VCALENDAR
