BEGIN:VCALENDAR
VERSION:2.0
PRODID:-//Squarespace Inc/Squarespace 6//v6//EN
BEGIN:VEVENT
UID:5d9135b0f81c5b0c17260222@squarespace.com
DTSTAMP:20190929T225902Z
DTSTART:20191014T140000Z
DTEND:20191014T170000Z
SUMMARY:AMARTE Term 4
GEO:-36.901045;174.731189
LOCATION:Wesley Community Centre\, 740 Sandringham Road Ext.\, Mount Roskil
 l\, Auckland\, New Zealand
END:VEVENT
END:VCALENDAR
